BEGIN:VCALENDAR
VERSION:2.0
PRODID:icalendar-ruby
CALSCALE:GREGORIAN
METHOD:PUBLISH
BEGIN:VEVENT
DTSTAMP:20260425T143752Z
UID:276-1526441@firstunitedchurchottawa.org
DTSTART:20260506T230000Z
DTEND:20260507T003000Z
CLASS:PUBLIC
CREATED:20260424T143840
DESCRIPTION:We will resume book study (in person or online) on Wednesday\, 
 May 6th from 7:00 – 8:30 p.m. \nThe book\, which was suggested by the m
 ajority\, is Borg\, Marcus. J.\, The Heart of Christianity:  Rediscoverin
 g a Life of Faith.  If you would like to be part of this book study group
 \, please email Kanana at kanana@firstunitedchurchottawa.org  
LAST-MODIFIED:20260424T143840
LOCATION:
SUMMARY:Book Study
URL;VALUE=URI:https://www.firstunitedchurchottawa.org/events/book-study/202
 6-05-06
ATTACH;FILENAME=Books.jpg;FMTTYPE=image/jpeg:https://dq5pwpg1q8ru0.cloudfro
 nt.net/2026/04/24/18/38/40/44ccfc70-e442-4919-9486-8f7bb8f19066/Books.jpg
END:VEVENT
END:VCALENDAR
